BEGIN:VCALENDAR
VERSION:2.0
PRODID:-//Schützenverein Hubertus Tagmersheim - ECPv6.15.20//NONSGML v1.0//EN
CALSCALE:GREGORIAN
METHOD:PUBLISH
X-WR-CALNAME:Schützenverein Hubertus Tagmersheim
X-ORIGINAL-URL:https://test.hubertus-tagmersheim.de
X-WR-CALDESC:Veranstaltungen für Schützenverein Hubertus Tagmersheim
REFRESH-INTERVAL;VALUE=DURATION:PT1H
X-Robots-Tag:noindex
X-PUBLISHED-TTL:PT1H
BEGIN:VTIMEZONE
TZID:Europe/Berlin
BEGIN:DAYLIGHT
TZOFFSETFROM:+0100
TZOFFSETTO:+0200
TZNAME:CEST
DTSTART:20250330T010000
END:DAYLIGHT
BEGIN:STANDARD
TZOFFSETFROM:+0200
TZOFFSETTO:+0100
TZNAME:CET
DTSTART:20251026T010000
END:STANDARD
BEGIN:DAYLIGHT
TZOFFSETFROM:+0100
TZOFFSETTO:+0200
TZNAME:CEST
DTSTART:20260329T010000
END:DAYLIGHT
BEGIN:STANDARD
TZOFFSETFROM:+0200
TZOFFSETTO:+0100
TZNAME:CET
DTSTART:20261025T010000
END:STANDARD
BEGIN:DAYLIGHT
TZOFFSETFROM:+0100
TZOFFSETTO:+0200
TZNAME:CEST
DTSTART:20270328T010000
END:DAYLIGHT
BEGIN:STANDARD
TZOFFSETFROM:+0200
TZOFFSETTO:+0100
TZNAME:CET
DTSTART:20271031T010000
END:STANDARD
END:VTIMEZONE
BEGIN:VEVENT
DTSTART;TZID=Europe/Berlin:20260718T080000
DTEND;TZID=Europe/Berlin:20260718T220000
DTSTAMP:20260425T160216
CREATED:20260424T194351Z
LAST-MODIFIED:20260424T200143Z
UID:11446-1784361600-1784412000@test.hubertus-tagmersheim.de
SUMMARY:Schützenfest
DESCRIPTION:Wir laden Euch zu unserem 75-jährigem Gründungsjubiläum ein
URL:https://test.hubertus-tagmersheim.de/termin/schuetzenfest/
LOCATION:Schützenheim
CATEGORIES:Termine
END:VEVENT
END:VCALENDAR